BEGIN:VCALENDAR
VERSION:2.0
PRODID:-//River Arts Kamiah - ECPv6.15.20//NONSGML v1.0//EN
CALSCALE:GREGORIAN
METHOD:PUBLISH
X-WR-CALNAME:River Arts Kamiah
X-ORIGINAL-URL:https://www.riverartskamiah.org
X-WR-CALDESC:Events for River Arts Kamiah
REFRESH-INTERVAL;VALUE=DURATION:PT1H
X-Robots-Tag:noindex
X-PUBLISHED-TTL:PT1H
BEGIN:VTIMEZONE
TZID:America/Los_Angeles
BEGIN:DAYLIGHT
TZOFFSETFROM:-0800
TZOFFSETTO:-0700
TZNAME:PDT
DTSTART:20240310T100000
END:DAYLIGHT
BEGIN:STANDARD
TZOFFSETFROM:-0700
TZOFFSETTO:-0800
TZNAME:PST
DTSTART:20241103T090000
END:STANDARD
BEGIN:DAYLIGHT
TZOFFSETFROM:-0800
TZOFFSETTO:-0700
TZNAME:PDT
DTSTART:20250309T100000
END:DAYLIGHT
BEGIN:STANDARD
TZOFFSETFROM:-0700
TZOFFSETTO:-0800
TZNAME:PST
DTSTART:20251102T090000
END:STANDARD
BEGIN:DAYLIGHT
TZOFFSETFROM:-0800
TZOFFSETTO:-0700
TZNAME:PDT
DTSTART:20260308T100000
END:DAYLIGHT
BEGIN:STANDARD
TZOFFSETFROM:-0700
TZOFFSETTO:-0800
TZNAME:PST
DTSTART:20261101T090000
END:STANDARD
END:VTIMEZONE
BEGIN:VEVENT
DTSTART;TZID=America/Los_Angeles:20250924T100000
DTEND;TZID=America/Los_Angeles:20250924T130000
DTSTAMP:20260419T125805
CREATED:20250819T025145Z
LAST-MODIFIED:20250819T025145Z
UID:3219-1758708000-1758718800@www.riverartskamiah.org
SUMMARY:Learning Acrylic Painting ~ Ongoing
DESCRIPTION:This class is part of a six-part series that began on Sept. 17. Check back for more series classes!
URL:https://www.riverartskamiah.org/event/learning-acrylic-painting-ongoing-6/
LOCATION:River Arts\, 416 Main Street\, Suite E\, Kamiah\, 83536\, United States
END:VEVENT
BEGIN:VEVENT
DTSTART;TZID=America/Los_Angeles:20250920T100000
DTEND;TZID=America/Los_Angeles:20250920T120000
DTSTAMP:20260419T125805
CREATED:20250819T030153Z
LAST-MODIFIED:20250819T030219Z
UID:3229-1758362400-1758369600@www.riverartskamiah.org
SUMMARY:Make a Monster in Clay
DESCRIPTION:Using our own two hands\, we will construct little monsters from clay. The class will cover some basic clay hand-building techniques and will include follow-up glazing and firing. All supplies provided. \nAges: 7 and up\, kids must be accompanied by an adult \nFREE
URL:https://www.riverartskamiah.org/event/make-a-monster-in-clay-2/
LOCATION:River Arts\, 416 Main Street\, Suite E\, Kamiah\, 83536\, United States
ATTACH;FMTTYPE=image/png:https://www.riverartskamiah.org/wp-content/uploads/2024/07/clay-pinch-pot-monster-art-project-kids.png
END:VEVENT
BEGIN:VEVENT
DTSTART;TZID=America/Los_Angeles:20250917T180000
DTEND;TZID=America/Los_Angeles:20250917T193000
DTSTAMP:20260419T125805
CREATED:20250806T133925Z
LAST-MODIFIED:20250819T032926Z
UID:3156-1758132000-1758137400@www.riverartskamiah.org
SUMMARY:Nature Journaling
DESCRIPTION:This is an ongoing gathering that happens every two weeks. Naturalist\, artist\, and birder Lee Hamilton Lee will lead explorations of how to journal and draw what we experience in nature. Lee has presented\, instructed and shared his interest and passions in outdoor schools\, tour groups\, and many and varied venues for three decades. \nAges: 10 and up (kids must be accompanied by a parent) \nMaterials: Bring your journal. Other materials are provided. \nFREE ~ no RSVP required
URL:https://www.riverartskamiah.org/event/nature-journaling-17/
LOCATION:River Arts\, 416 Main Street\, Suite E\, Kamiah\, 83536\, United States
ATTACH;FMTTYPE=image/jpeg:https://www.riverartskamiah.org/wp-content/uploads/2024/08/LeeCurlew.jpg
END:VEVENT
BEGIN:VEVENT
DTSTART;TZID=America/Los_Angeles:20250917T100000
DTEND;TZID=America/Los_Angeles:20250917T130000
DTSTAMP:20260419T125805
CREATED:20250819T024810Z
LAST-MODIFIED:20250819T024847Z
UID:3216-1758103200-1758114000@www.riverartskamiah.org
SUMMARY:Learning Acrylic Painting ~ Six Class Series
DESCRIPTION:The Elements and Principles of Art as We Apply Them to Landscape Paintings \nLocal painter Doug Boomer will guide in this six-class exploration of acrylic painting. The class will focus on developing a landscape painting. The class will take place 10 am to 1 pm Wednesdays\, September 17 – October 22. \nDoug Boomer was born and raised in California.  During his youth he grew up on a farm in the San Joaquin Valley\, spending summer vacations camping in the Sierras. When he was about eight years old\, he was inspired by an uncle who was oil painting portraits and various scenes.  He was also inspired by many artists he met at various art shows where his two brothers were exhibitors. \nIn his representational paintings\, primarily in acrylics and watercolors\, he tries to express the subject he’s painting in such a way that the viewer has an emotional response.  Whether the subject is a figure\, a flower\, an animal\, or a landscape\, he attempts to capture the spirit of the subject with light\, color\, mood\, or motion. Learn more at DougBoomerart.com \nAll supplies provided. \nAges 14 and up. \nPlease RSVP for this class with the form below. This class is free. We look forward to seeing you in the studio!
URL:https://www.riverartskamiah.org/event/learning-acrylic-painting-six-class-series/
LOCATION:River Arts\, 416 Main Street\, Suite E\, Kamiah\, 83536\, United States
ATTACH;FMTTYPE=image/jpeg:https://www.riverartskamiah.org/wp-content/uploads/2024/12/DougBpaints.jpg
END:VEVENT
BEGIN:VEVENT
DTSTART;TZID=America/Los_Angeles:20250916T123000
DTEND;TZID=America/Los_Angeles:20250916T143000
DTSTAMP:20260419T125805
CREATED:20250819T022849Z
LAST-MODIFIED:20250819T023157Z
UID:3204-1758025800-1758033000@www.riverartskamiah.org
SUMMARY:Watercolor With Pearl Advanced ~ Ongoing
DESCRIPTION:This class is part of a three-part series that began on Sept. 2. Check back for more series classes!
URL:https://www.riverartskamiah.org/event/watercolor-with-pearl-summer-ongoing-9/
LOCATION:River Arts\, 416 Main Street\, Suite E\, Kamiah\, 83536\, United States
END:VEVENT
BEGIN:VEVENT
DTSTART;TZID=America/Los_Angeles:20250916T100000
DTEND;TZID=America/Los_Angeles:20250916T120000
DTSTAMP:20260419T125805
CREATED:20250819T022712Z
LAST-MODIFIED:20250819T023132Z
UID:3200-1758016800-1758024000@www.riverartskamiah.org
SUMMARY:Watercolor With Pearl Beginner ~ Ongoing
DESCRIPTION:This class is part of a three-part series that began on Sept. 2. Check back for more series classes!
URL:https://www.riverartskamiah.org/event/watercolor-with-pearl-summer-ongoing-7/
LOCATION:River Arts\, 416 Main Street\, Suite E\, Kamiah\, 83536\, United States
END:VEVENT
BEGIN:VEVENT
DTSTART;TZID=America/Los_Angeles:20250913T120000
DTEND;TZID=America/Los_Angeles:20250913T130000
DTSTAMP:20260419T125805
CREATED:20250819T024022Z
LAST-MODIFIED:20250831T202434Z
UID:3211-1757764800-1757768400@www.riverartskamiah.org
SUMMARY:Gestural Drawing
DESCRIPTION:Tap into the rhythm of gestural drawing! \nAt River Arts\, we’re moving with the season. This course invites you to explore gestural drawing\, a fast and expressive style focused on movement and feeling rather than fine details. It’s perfect for all levels of artists who want to break free from rigidity and get into the creative groove. \nFor ages 12 and older. Supplies included. \nCynthia Valle\, an artist with a deep love for all mediums\, guides you through this energizing process\, helping you unlock spontaneous expression and creative momentum. \nFREE \nPlease RSVP for this class with the form below. This class is free. We look forward to seeing you in the studio! \n  \n  \n 
URL:https://www.riverartskamiah.org/event/gestural-drawing-2/
LOCATION:River Arts\, 416 Main Street\, Suite E\, Kamiah\, 83536\, United States
ATTACH;FMTTYPE=image/jpeg:https://www.riverartskamiah.org/wp-content/uploads/2025/07/image.jpg
END:VEVENT
BEGIN:VEVENT
DTSTART;TZID=America/Los_Angeles:20250909T123000
DTEND;TZID=America/Los_Angeles:20250909T143000
DTSTAMP:20260419T125805
CREATED:20250819T022809Z
LAST-MODIFIED:20250819T023012Z
UID:3202-1757421000-1757428200@www.riverartskamiah.org
SUMMARY:Watercolor With Pearl Advanced ~ Ongoing
DESCRIPTION:This class is part of a three-part series that began on Sept. 2. Check back for more series classes!
URL:https://www.riverartskamiah.org/event/watercolor-with-pearl-summer-ongoing-8/
LOCATION:River Arts\, 416 Main Street\, Suite E\, Kamiah\, 83536\, United States
END:VEVENT
BEGIN:VEVENT
DTSTART;TZID=America/Los_Angeles:20250909T100000
DTEND;TZID=America/Los_Angeles:20250909T120000
DTSTAMP:20260419T125805
CREATED:20250819T022608Z
LAST-MODIFIED:20250819T023046Z
UID:3198-1757412000-1757419200@www.riverartskamiah.org
SUMMARY:Watercolor With Pearl Beginner ~ Ongoing
DESCRIPTION:This class is part of a three-part series that began on Sept. 2. Check back for more series classes!
URL:https://www.riverartskamiah.org/event/watercolor-with-pearl-summer-ongoing-6/
LOCATION:River Arts\, 416 Main Street\, Suite E\, Kamiah\, 83536\, United States
END:VEVENT
BEGIN:VEVENT
DTSTART;TZID=America/Los_Angeles:20250906T100000
DTEND;TZID=America/Los_Angeles:20250906T120000
DTSTAMP:20260419T125805
CREATED:20250819T032048Z
LAST-MODIFIED:20250831T192926Z
UID:3230-1757152800-1757160000@www.riverartskamiah.org
SUMMARY:"But I Can't Draw!" ~ A Drawing Class for the Very Beginner
DESCRIPTION:Yes you can! Everyone can learn new ways of seeing and sharing what they see on paper. Be brave and join this very beginner class on drawing. Learn easy techniques on how to draw from various perspectives. All supplies provided. \nNaturalist\, artist\, and birder Lee Hamilton Lee will guide this gentle exploration of drawing. Lee has presented\, instructed and shared his interest and passions in outdoor schools\, tour groups\, and many and varied venues for three decades. \nAges: 10 and up (kids must be accompanied by a parent) \nFREE \n 
URL:https://www.riverartskamiah.org/event/but-i-cant-draw-a-drawing-class-for-skeptics/
LOCATION:River Arts\, 416 Main Street\, Suite E\, Kamiah\, 83536\, United States
ATTACH;FMTTYPE=image/jpeg:https://www.riverartskamiah.org/wp-content/uploads/2025/08/BeBrave.jpg
END:VEVENT
BEGIN:VEVENT
DTSTART;TZID=America/Los_Angeles:20250905T180000
DTEND;TZID=America/Los_Angeles:20250905T200000
DTSTAMP:20260419T125805
CREATED:20250727T044952Z
LAST-MODIFIED:20250727T044953Z
UID:3140-1757095200-1757102400@www.riverartskamiah.org
SUMMARY:Missing Parts ~ Live Band in the Park
DESCRIPTION:
URL:https://www.riverartskamiah.org/event/missing-parts-live-band-in-the-park/
ATTACH;FMTTYPE=image/jpeg:https://www.riverartskamiah.org/wp-content/uploads/2025/07/River-Arts-presents-e1753591642419.jpg
END:VEVENT
BEGIN:VEVENT
DTSTART;TZID=America/Los_Angeles:20250903T180000
DTEND;TZID=America/Los_Angeles:20250903T193000
DTSTAMP:20260419T125805
CREATED:20250806T133834Z
LAST-MODIFIED:20250819T033040Z
UID:3154-1756922400-1756927800@www.riverartskamiah.org
SUMMARY:Nature Journaling
DESCRIPTION:This is an ongoing gathering that happens every two weeks. Naturalist\, artist\, and birder Lee Hamilton Lee will lead explorations of how to journal and draw what we experience in nature. Lee has presented\, instructed and shared his interest and passions in outdoor schools\, tour groups\, and many and varied venues for three decades. \nAges: 10 and up (kids must be accompanied by a parent) \nMaterials: Bring your journal. Other materials are provided. \nFREE ~ no RSVP required
URL:https://www.riverartskamiah.org/event/nature-journaling-16/
LOCATION:River Arts\, 416 Main Street\, Suite E\, Kamiah\, 83536\, United States
ATTACH;FMTTYPE=image/jpeg:https://www.riverartskamiah.org/wp-content/uploads/2024/08/LeeCurlew.jpg
END:VEVENT
BEGIN:VEVENT
DTSTART;TZID=America/Los_Angeles:20250902T123000
DTEND;TZID=America/Los_Angeles:20250902T143000
DTSTAMP:20260419T125805
CREATED:20250819T015552Z
LAST-MODIFIED:20250819T023845Z
UID:3180-1756816200-1756823400@www.riverartskamiah.org
SUMMARY:Watercolor With Pearl Advanced
DESCRIPTION:Artist Pearl Maxner will teach this four-class watercolor series 12:30-2:30 Tuesdays\, September 2\, 9\, and 16. \nExplore watercolor painting with step-by-step instructions on the use of color and light and capturing mood and emotion. Paint with confidence and trust in the flow of color in your life. All supplies provided. \nAges 15 and up. All supplies provided. \nFREE \nPearl Maxner grew up knee-deep in a creek behind her childhood home in California in the foothills of Sequoia National Park and is delighted to have come full circle\, finding herself once more living on the banks of a creek in Idaho County. This amazing creation never ceases to astound her and she spends time photographing\, sketching\, and painting the beauty. \nShe has worked as a fire lookout in the Sierra Nevada Mountains in California\, a lifeguard\, a trail guide for a state park\, a folk singer in a restaurant\, motel maid\, swim instructor\, elementary school teacher in Hawaii and Oregon\, organic farmer in Hawaii\, and as a writer and illustrator of children’s books and other publications. She currently gives watercolor seminars at the Monastery of St. Gertrude in Cottonwood. Friends and family are paramount in her life. Still an avid gardener\, she would rather have her hands in the dirt than just about anywhere else. She feels very blessed indeed to have experienced so much of the good this life has to offer. \nYou can see more of her work at www.TheArtofPearl.gallery \nPlease RSVP for this class with the form below. This class is free. We look forward to seeing you in the studio!
URL:https://www.riverartskamiah.org/event/watercolor-with-pearl-advanced/
ATTACH;FMTTYPE=image/png:https://www.riverartskamiah.org/wp-content/uploads/2024/10/Owl.png
END:VEVENT
BEGIN:VEVENT
DTSTART;TZID=America/Los_Angeles:20250902T100000
DTEND;TZID=America/Los_Angeles:20250902T120000
DTSTAMP:20260419T125805
CREATED:20250819T015325Z
LAST-MODIFIED:20250819T023806Z
UID:3178-1756807200-1756814400@www.riverartskamiah.org
SUMMARY:Watercolor With Pearl Beginner
DESCRIPTION:Artist Pearl Maxner will teach this three-class watercolor series 10 a.m. to noon Tuesdays\, September 2\, 9\, and 16. \nExplore watercolor painting with step-by-step instructions on the use of color and light and capturing mood and emotion. Paint with confidence and trust in the flow of color in your life. All supplies provided. \nAges 15 and up. All supplies provided. \nFREE \nPearl Maxner grew up knee-deep in a creek behind her childhood home in California in the foothills of Sequoia National Park and is delighted to have come full circle\, finding herself once more living on the banks of a creek in Idaho County. This amazing creation never ceases to astound her and she spends time photographing\, sketching\, and painting the beauty. \nShe has worked as a fire lookout in the Sierra Nevada Mountains in California\, a lifeguard\, a trail guide for a state park\, a folk singer in a restaurant\, motel maid\, swim instructor\, elementary school teacher in Hawaii and Oregon\, organic farmer in Hawaii\, and as a writer and illustrator of children’s books and other publications. She currently gives watercolor seminars at the Monastery of St. Gertrude in Cottonwood. Friends and family are paramount in her life. Still an avid gardener\, she would rather have her hands in the dirt than just about anywhere else. She feels very blessed indeed to have experienced so much of the good this life has to offer. \nYou can see more of her work at www.TheArtofPearl.gallery \nPlease RSVP for this class with the form below. This class is free. We look forward to seeing you in the studio! \n 
URL:https://www.riverartskamiah.org/event/watercolor-with-pearl-summer-2025-3/
LOCATION:River Arts\, 416 Main Street\, Suite E\, Kamiah\, 83536\, United States
ATTACH;FMTTYPE=image/jpeg:https://www.riverartskamiah.org/wp-content/uploads/2024/12/BlackBear.jpg
END:VEVENT
BEGIN:VEVENT
DTSTART;TZID=America/Los_Angeles:20250830T100000
DTEND;TZID=America/Los_Angeles:20250830T160000
DTSTAMP:20260419T125805
CREATED:20250825T201924Z
LAST-MODIFIED:20250825T201924Z
UID:3268-1756548000-1756569600@www.riverartskamiah.org
SUMMARY:Central Idaho Art Association Show and Sale
DESCRIPTION:
URL:https://www.riverartskamiah.org/event/central-idaho-art-association-show-and-sale-3/
LOCATION:River Arts\, 416 Main Street\, Suite E\, Kamiah\, 83536\, United States
ATTACH;FMTTYPE=image/jpeg:https://www.riverartskamiah.org/wp-content/uploads/2025/08/CIAAshow.jpg
END:VEVENT
BEGIN:VEVENT
DTSTART;TZID=America/Los_Angeles:20250829T100000
DTEND;TZID=America/Los_Angeles:20250829T160000
DTSTAMP:20260419T125805
CREATED:20250825T202225Z
LAST-MODIFIED:20250825T202225Z
UID:3270-1756461600-1756483200@www.riverartskamiah.org
SUMMARY:Central Idaho Art Association Show and Sale
DESCRIPTION:
URL:https://www.riverartskamiah.org/event/central-idaho-art-association-show-and-sale-4/
LOCATION:River Arts\, 416 Main Street\, Suite E\, Kamiah\, 83536\, United States
ATTACH;FMTTYPE=image/jpeg:https://www.riverartskamiah.org/wp-content/uploads/2025/08/CIAAshow.jpg
END:VEVENT
BEGIN:VEVENT
DTSTART;TZID=America/Los_Angeles:20250829T100000
DTEND;TZID=America/Los_Angeles:20250829T120000
DTSTAMP:20260419T125805
CREATED:20250825T200806Z
LAST-MODIFIED:20250825T210145Z
UID:3253-1756461600-1756468800@www.riverartskamiah.org
SUMMARY:Splatter Painting ~ Group Project
DESCRIPTION:Come help splatter paint the backdrops for the courtyard stage! All supplies provided. \nWear your paint clothes 🙂
URL:https://www.riverartskamiah.org/event/splatter-painting/
ATTACH;FMTTYPE=image/jpeg:https://www.riverartskamiah.org/wp-content/uploads/2025/08/splatter.jpg
END:VEVENT
BEGIN:VEVENT
DTSTART;TZID=America/Los_Angeles:20250828T100000
DTEND;TZID=America/Los_Angeles:20250828T160000
DTSTAMP:20260419T125805
CREATED:20250825T201304Z
LAST-MODIFIED:20250825T201639Z
UID:3260-1756375200-1756396800@www.riverartskamiah.org
SUMMARY:Central Idaho Art Association Show and Sale
DESCRIPTION:
URL:https://www.riverartskamiah.org/event/ciaa-exhibit-studio-open-3/
LOCATION:River Arts\, 416 Main Street\, Suite E\, Kamiah\, 83536\, United States
ATTACH;FMTTYPE=image/jpeg:https://www.riverartskamiah.org/wp-content/uploads/2025/08/CIAAshow.jpg
END:VEVENT
BEGIN:VEVENT
DTSTART;TZID=America/Los_Angeles:20250828T100000
DTEND;TZID=America/Los_Angeles:20250828T160000
DTSTAMP:20260419T125805
CREATED:20250425T014513Z
LAST-MODIFIED:20250728T165628Z
UID:3008-1756375200-1756396800@www.riverartskamiah.org
SUMMARY:CIAA Paint Day
DESCRIPTION:Come paint with members of the Central Idaho Art Association. Bring your own project. This is an independent painting time with shared community. No instruction provided.
URL:https://www.riverartskamiah.org/event/ciaa-paint-day-3/
LOCATION:River Arts\, 416 Main Street\, Suite E\, Kamiah\, 83536\, United States
ATTACH;FMTTYPE=image/png:https://www.riverartskamiah.org/wp-content/uploads/2025/01/PaintingOpen.png
END:VEVENT
BEGIN:VEVENT
DTSTART;TZID=America/Los_Angeles:20250827T100000
DTEND;TZID=America/Los_Angeles:20250827T160000
DTSTAMP:20260419T125805
CREATED:20250825T201734Z
LAST-MODIFIED:20250825T201734Z
UID:3264-1756288800-1756310400@www.riverartskamiah.org
SUMMARY:Central Idaho Art Association Show and Sale
DESCRIPTION:
URL:https://www.riverartskamiah.org/event/central-idaho-art-association-show-and-sale/
LOCATION:River Arts\, 416 Main Street\, Suite E\, Kamiah\, 83536\, United States
ATTACH;FMTTYPE=image/jpeg:https://www.riverartskamiah.org/wp-content/uploads/2025/08/CIAAshow.jpg
END:VEVENT
BEGIN:VEVENT
DTSTART;TZID=America/Los_Angeles:20250827T100000
DTEND;TZID=America/Los_Angeles:20250827T140000
DTSTAMP:20260419T125805
CREATED:20250819T012105Z
LAST-MODIFIED:20250819T012106Z
UID:3175-1756288800-1756303200@www.riverartskamiah.org
SUMMARY:Papermaking
DESCRIPTION:Papermaking will take place in the courtyard next to River Arts!
URL:https://www.riverartskamiah.org/event/papermaking/
LOCATION:River Arts\, 416 Main Street\, Suite E\, Kamiah\, 83536\, United States
ATTACH;FMTTYPE=image/jpeg:https://www.riverartskamiah.org/wp-content/uploads/2025/08/Papermaking.jpg
END:VEVENT
BEGIN:VEVENT
DTSTART;TZID=America/Los_Angeles:20250826T100000
DTEND;TZID=America/Los_Angeles:20250826T160000
DTSTAMP:20260419T125805
CREATED:20250825T201816Z
LAST-MODIFIED:20250825T201816Z
UID:3266-1756202400-1756224000@www.riverartskamiah.org
SUMMARY:Central Idaho Art Association Show and Sale
DESCRIPTION:
URL:https://www.riverartskamiah.org/event/central-idaho-art-association-show-and-sale-2/
LOCATION:River Arts\, 416 Main Street\, Suite E\, Kamiah\, 83536\, United States
ATTACH;FMTTYPE=image/jpeg:https://www.riverartskamiah.org/wp-content/uploads/2025/08/CIAAshow.jpg
END:VEVENT
BEGIN:VEVENT
DTSTART;TZID=America/Los_Angeles:20250822T180000
DTEND;TZID=America/Los_Angeles:20250822T200000
DTSTAMP:20260419T125805
CREATED:20250727T044846Z
LAST-MODIFIED:20250819T032817Z
UID:3138-1755885600-1755892800@www.riverartskamiah.org
SUMMARY:Redstone and Project Native ~ Live Band in the Park
DESCRIPTION:Local Rapper Project Native will open for Redstone at 5 p.m.
URL:https://www.riverartskamiah.org/event/redstone-live-band-in-the-park/
ATTACH;FMTTYPE=image/jpeg:https://www.riverartskamiah.org/wp-content/uploads/2025/07/River-Arts-presents-e1753591642419.jpg
END:VEVENT
BEGIN:VEVENT
DTSTART;TZID=America/Los_Angeles:20250820T180000
DTEND;TZID=America/Los_Angeles:20250820T193000
DTSTAMP:20260419T125805
CREATED:20250513T000803Z
LAST-MODIFIED:20250819T033002Z
UID:3053-1755712800-1755718200@www.riverartskamiah.org
SUMMARY:Nature Journaling
DESCRIPTION:This is an ongoing gathering that happens every two weeks. Naturalist\, artist\, and birder Lee Hamilton Lee will lead explorations of how to journal and draw what we experience in nature. Lee has presented\, instructed and shared his interest and passions in outdoor schools\, tour groups\, and many and varied venues for three decades. \nAges: 10 and up (kids must be accompanied by a parent) \nMaterials: Bring your journal. Other materials are provided. \nFREE ~ no RSVP required
URL:https://www.riverartskamiah.org/event/nature-journaling-15/
LOCATION:River Arts\, 416 Main Street\, Suite E\, Kamiah\, 83536\, United States
ATTACH;FMTTYPE=image/jpeg:https://www.riverartskamiah.org/wp-content/uploads/2024/08/LeeCurlew.jpg
END:VEVENT
BEGIN:VEVENT
DTSTART;TZID=America/Los_Angeles:20250819T123000
DTEND;TZID=America/Los_Angeles:20250819T143000
DTSTAMP:20260419T125805
CREATED:20250729T200255Z
LAST-MODIFIED:20250729T200255Z
UID:3152-1755606600-1755613800@www.riverartskamiah.org
SUMMARY:Watercolor With Pearl Early Summer - 2 ~ Ongoing
DESCRIPTION:This class is part of a four-part series that began on July 15. Check back for more series classes!
URL:https://www.riverartskamiah.org/event/watercolor-with-pearl-early-summer-2-ongoing-8/
LOCATION:River Arts\, 416 Main Street\, Suite E\, Kamiah\, 83536\, United States
END:VEVENT
BEGIN:VEVENT
DTSTART;TZID=America/Los_Angeles:20250819T100000
DTEND;TZID=America/Los_Angeles:20250819T120000
DTSTAMP:20260419T125805
CREATED:20250729T195722Z
LAST-MODIFIED:20250729T195722Z
UID:3148-1755597600-1755604800@www.riverartskamiah.org
SUMMARY:Watercolor With Pearl Summer ~ Ongoing
DESCRIPTION:This class is part of a four-part series that began on July 15. Check back for more series classes!
URL:https://www.riverartskamiah.org/event/watercolor-with-pearl-summer-ongoing-5/
LOCATION:River Arts\, 416 Main Street\, Suite E\, Kamiah\, 83536\, United States
END:VEVENT
BEGIN:VEVENT
DTSTART;TZID=America/Los_Angeles:20250812T123000
DTEND;TZID=America/Los_Angeles:20250812T143000
DTSTAMP:20260419T125805
CREATED:20250729T195937Z
LAST-MODIFIED:20250729T200211Z
UID:3150-1755001800-1755009000@www.riverartskamiah.org
SUMMARY:Watercolor With Pearl Early Summer - 2 ~ Ongoing
DESCRIPTION:This class is part of a four-part series that began on July 15. Check back for more series classes!
URL:https://www.riverartskamiah.org/event/watercolor-with-pearl-early-summer-2-ongoing-7/
LOCATION:River Arts\, 416 Main Street\, Suite E\, Kamiah\, 83536\, United States
END:VEVENT
BEGIN:VEVENT
DTSTART;TZID=America/Los_Angeles:20250812T100000
DTEND;TZID=America/Los_Angeles:20250812T120000
DTSTAMP:20260419T125805
CREATED:20250729T195554Z
LAST-MODIFIED:20250729T195622Z
UID:3146-1754992800-1755000000@www.riverartskamiah.org
SUMMARY:Watercolor With Pearl Summer ~ Ongoing
DESCRIPTION:This class is part of a four-part series that began on July 15. Check back for more series classes!
URL:https://www.riverartskamiah.org/event/watercolor-with-pearl-summer-ongoing-4/
LOCATION:River Arts\, 416 Main Street\, Suite E\, Kamiah\, 83536\, United States
END:VEVENT
BEGIN:VEVENT
DTSTART;TZID=America/Los_Angeles:20250808T180000
DTEND;TZID=America/Los_Angeles:20250808T200000
DTSTAMP:20260419T125805
CREATED:20250727T044738Z
LAST-MODIFIED:20250727T044738Z
UID:3136-1754676000-1754683200@www.riverartskamiah.org
SUMMARY:Family - Friendly Dance Party with DJ Daisy
DESCRIPTION:
URL:https://www.riverartskamiah.org/event/family-friendly-dance-party-with-dj-daisy/
ATTACH;FMTTYPE=image/jpeg:https://www.riverartskamiah.org/wp-content/uploads/2025/07/River-Arts-presents-e1753591642419.jpg
END:VEVENT
BEGIN:VEVENT
DTSTART;TZID=America/Los_Angeles:20250807T110000
DTEND;TZID=America/Los_Angeles:20250807T120000
DTSTAMP:20260419T125805
CREATED:20250701T202848Z
LAST-MODIFIED:20250728T165444Z
UID:3101-1754564400-1754568000@www.riverartskamiah.org
SUMMARY:CIAA General Meeting
DESCRIPTION:
URL:https://www.riverartskamiah.org/event/ciaa-general-meeting-3/
END:VEVENT
END:VCALENDAR